BEGIN:VCALENDAR
VERSION:2.0
PRODID:-//ChamberMaster//Event Calendar 2.0//EN
METHOD:PUBLISH
X-PUBLISHED-TTL:P3D
REFRESH-INTERVAL:P3D
CALSCALE:GREGORIAN
BEGIN:VEVENT
DTSTART:20180411T163000Z
DTEND:20180411T180000Z
X-MICROSOFT-CDO-ALLDAYEVENT:FALSE
SUMMARY:Grimes Chamber & Economic Development April 2018 Expert Edge Seminar
DESCRIPTION:This month Bryan Huggins with Shiffler Associates Architects will be presenting on the process that goes along with getting a building from an idea and thought to workable space. This will be a great presentations with some fellow Chamber Member businesses being used as examples! We would love for you to join us!
X-ALT-DESC;FMTTYPE=text/html:<span style="color: rgb(51\, 51\, 51)\; font-family: sans-serif\, Arial\, Verdana\, &quot\;Trebuchet MS&quot\;\; font-size: 12px\; background-color: rgb(255\, 255\, 255)\;">This month Bryan Huggins with&nbsp\;</span><strong style="color: rgb(51\, 51\, 51)\; font-family: sans-serif\, Arial\, Verdana\, &quot\;Trebuchet MS&quot\;\; font-size: 12px\; background-color: rgb(255\, 255\, 255)\;"><span style="color: rgba(0\, 0\, 0\, 0.87)\; font-family: Roboto\, arial\, sans-serif\;">Shiffler&nbsp\;Associates Architects&nbsp\;</span></strong><span style="font-size: 12px\; color: rgba(0\, 0\, 0\, 0.87)\; font-family: Roboto\, arial\, sans-serif\; background-color: rgb(255\, 255\, 255)\;">will be presenting on the&nbsp\;process that goes along with getting a building from an idea and thought to workable space. This will be a great presentations with some fellow Chamber Member businesses being used as examples! We would love for you to join us!&nbsp\;</span>
LOCATION:This event will be held at the Grimes Community Complex (410 SE Main Street\, Grimes\, Iowa)
UID:e.2636.249
SEQUENCE:3
DTSTAMP:20260424T160653Z
URL:https://business.grimesiowa.com/events/details/grimes-chamber-economic-development-april-2018-expert-edge-seminar-249
END:VEVENT

END:VCALENDAR
