BEGIN:VCALENDAR
VERSION:2.0
PRODID:-//ChamberMaster//Event Calendar 2.0//EN
METHOD:PUBLISH
X-PUBLISHED-TTL:P3D
REFRESH-INTERVAL:P3D
CALSCALE:GREGORIAN
BEGIN:VEVENT
DTSTART;VALUE=DATE:20180808
DTEND;VALUE=DATE:20180809
TRANSP:TRANSPARENT
X-MICROSOFT-CDO-ALLDAYEVENT:TRUE
SUMMARY:Grimes Chamber & Economic Development- August 2018 Expert Edge Seminar
DESCRIPTION:This Expert Edge will be presented by R Jones 1 Collision. You will get the opportunity to hear all about thier business and learn more about their industry.
X-ALT-DESC;FMTTYPE=text/html:This Expert Edge will be presented by R Jones 1 Collision. You will get the opportunity to hear all about thier business and learn more about their industry.&nbsp\;&nbsp\;
LOCATION:This event will be held at the Grimes Community Complex (410 SE Main Street\, Grimes\, Iowa) View a Map
UID:e.2636.252
SEQUENCE:3
DTSTAMP:20260424T103915Z
URL:https://business.grimesiowa.com/events/details/grimes-chamber-economic-development-august-2018-expert-edge-seminar-252
END:VEVENT

END:VCALENDAR
