BEGIN:VCALENDAR
VERSION:2.0
PRODID:-//ChamberMaster//Event Calendar 2.0//EN
METHOD:PUBLISH
X-PUBLISHED-TTL:P3D
REFRESH-INTERVAL:P3D
CALSCALE:GREGORIAN
BEGIN:VEVENT
DTSTART:20160630T213000Z
DTEND:20160630T230000Z
X-MICROSOFT-CDO-ALLDAYEVENT:FALSE
SUMMARY:Grimes Chamber & Economic Development B.I.G.
DESCRIPTION:Join the Friends of the Grimes Library for June's BIG event.  Food starts at 4:30 PM\, come and see our recently remodeled facilities and check out the resources we have for small\, medium and large business owners.  The summer reading program is in full swing as kids all over Grimes are encouraged to "Get in the Game" of reading.  Join other chamber members\, bring your business cards and come on out for a great time of networking and relationship building.
X-ALT-DESC;FMTTYPE=text/html:Join the Friends of the Grimes Library for June&rsquo\;s BIG event. &nbsp\;Food starts at 4:30 PM\, come and see our recently remodeled facilities and check out the resources we have for small\, medium and large business owners. &nbsp\;The summer reading program is in full swing as kids all over Grimes are encouraged to &ldquo\;Get in the Game&rdquo\; of reading. &nbsp\;Join other chamber members\, bring your business cards and come on out for a great time of networking and relationship building. &nbsp\;
LOCATION:Grimes Public Library 200 N James St Grimes\, IA 50111
UID:e.2636.13
SEQUENCE:3
DTSTAMP:20260425T234203Z
URL:https://business.grimesiowa.com/events/details/grimes-chamber-economic-development-b-i-g-06-30-2016-13
END:VEVENT

END:VCALENDAR
