BEGIN:VCALENDAR
VERSION:2.0
PRODID:-//ChamberMaster//Event Calendar 2.0//EN
METHOD:PUBLISH
X-PUBLISHED-TTL:P3D
REFRESH-INTERVAL:P3D
CALSCALE:GREGORIAN
BEGIN:VEVENT
DTSTART:20160920T213000Z
DTEND:20160920T233000Z
X-MICROSOFT-CDO-ALLDAYEVENT:FALSE
SUMMARY:Grimes Chamber & Economic Development B.I.G. (Back to Health Chiropractic)
DESCRIPTION:Please join us for B.I.G. (Business In Grimes Afterhours) at Back to Health Chiropractic for the Annual Fall Kick-Off Party. You are encouraged to wear your favorite team's gear to this football themed event.  There will be food\, fun\, beverages and prizes.
X-ALT-DESC;FMTTYPE=text/html:Please join us for B.I.G. (Business In Grimes Afterhours) at Back to Health Chiropractic for the Annual Fall Kick-Off Party. You are encouraged to wear your favorite team&#39\;s gear to this football themed event. &nbsp\;There will be food\, fun\, beverages and prizes. &nbsp\;
LOCATION:Back to Health Chiropractic 3000 SE Grimes Blvd\; Ste 500 Grimes\, IA 50111
UID:e.2636.16
SEQUENCE:3
DTSTAMP:20260425T203129Z
URL:https://business.grimesiowa.com/events/details/grimes-chamber-economic-development-b-i-g-back-to-health-chiropractic-09-20-2016-16
END:VEVENT

END:VCALENDAR
