BEGIN:VCALENDAR
VERSION:2.0
PRODID:-//ChamberMaster//Event Calendar 2.0//EN
METHOD:PUBLISH
X-PUBLISHED-TTL:P3D
REFRESH-INTERVAL:P3D
CALSCALE:GREGORIAN
BEGIN:VEVENT
DTSTART:20170919T213000Z
DTEND:20170919T233000Z
X-MICROSOFT-CDO-ALLDAYEVENT:FALSE
SUMMARY:Grimes Chamber & Economic Development B.I.G. (Back to Health Chiropractic)
DESCRIPTION:Please join us for B.I.G. (Business In Grimes Afterhours) at Back to Health Chiropractic for their Annual Fall Kick-Off Party. You are encouraged to wear your favorite team's gear to this football themed event.  This B.I.G. will also be a celebration on their 5th Anniversary in Grimes.  Come out and help Dr. Holly Davis celebrate this achievement. There will be food\, fun\, beverages and prizes.  All GCED members and their guests are invited to attend.
X-ALT-DESC;FMTTYPE=text/html:Please join us for <strong>B.I.G. (Business In Grimes Afterhours)</strong> at Back to Health Chiropractic for their Annual Fall Kick-Off Party. You are encouraged to wear your favorite team&#39\;s gear to this football themed event. &nbsp\;This B.I.G. will also be a celebration on their 5th Anniversary in Grimes. &nbsp\;Come out and help Dr. Holly Davis celebrate this achievement.&nbsp\;There will be food\, fun\, beverages and prizes. &nbsp\;All GCED&nbsp\;members and their guests are invited to attend.
LOCATION:Back to Health Chiropractic 3000 SE Grimes Blvd\; Ste 500 Grimes\, IA 50111
UID:e.2636.217
SEQUENCE:3
DTSTAMP:20260425T021252Z
URL:https://business.grimesiowa.com/events/details/grimes-chamber-economic-development-b-i-g-back-to-health-chiropractic-217
END:VEVENT

END:VCALENDAR
