BEGIN:VCALENDAR
VERSION:2.0
PRODID:-//ChamberMaster//Event Calendar 2.0//EN
METHOD:PUBLISH
X-PUBLISHED-TTL:P3D
REFRESH-INTERVAL:P3D
CALSCALE:GREGORIAN
BEGIN:VEVENT
DTSTART:20160825T213000Z
DTEND:20160825T233000Z
X-MICROSOFT-CDO-ALLDAYEVENT:FALSE
SUMMARY:Grimes Chamber & Economic Development B.I.G. (Cabinets by Design)
DESCRIPTION:You are invited to join us at B.I.G.\, Business In Grimes\, (our own take on Business After Hours). Peggy Triggs\, owner of Cabinets by Design\, has opened up her doors for an evening of visiting with Chamber members\, meeting new friends and enjoying good food and beverages.   Bring your business cards and come on out for a great time of networking and relationship building.
X-ALT-DESC;FMTTYPE=text/html:<div style="text-align: start\;"><span style="font-family:arial\;"><span style="font-size:14px\;"><span style="text-align: justify\;">Y</span><span style="text-align: justify\;">ou</span><span style="text-align: justify\;"> are invited to join us at B.I.G.\,&nbsp\;Business In Grimes\, (our own take on Business After Hours). Peggy Triggs\, owner of Cabinets by Design\, has opened up her doors for an evening of visiting with Chamber members\, meeting&nbsp\;new friends and enjoying good food and beverages.&nbsp\;&nbsp\;</span><span style="line-height: 1.6\;">&nbsp\;Bring your business cards and come on out for a great time of networking and relationship building. &nbsp\;</span></span></span></div>\n
LOCATION:Cabinets by Design 3350 SE Crossroads Dr Grimes\, IA 50111
UID:e.2636.26
SEQUENCE:3
DTSTAMP:20260425T220559Z
URL:https://business.grimesiowa.com/events/details/grimes-chamber-economic-development-b-i-g-cabinets-by-design-08-25-2016-26
END:VEVENT

END:VCALENDAR
