BEGIN:VCALENDAR
VERSION:2.0
PRODID:-//ChamberMaster//Event Calendar 2.0//EN
METHOD:PUBLISH
X-PUBLISHED-TTL:P3D
REFRESH-INTERVAL:P3D
CALSCALE:GREGORIAN
BEGIN:VEVENT
DTSTART:20180214T173000Z
DTEND:20180214T190000Z
X-MICROSOFT-CDO-ALLDAYEVENT:FALSE
SUMMARY:Grimes Chamber & Economic Development Expert Edge- February 2018
DESCRIPTION:February is heart health month! Heart disease is the leading cause of death for both men and women in the United States. The good news? It is also one of the most preventable. So join us on the day of love for a hearty presentation by Mercy Clinics Jennifer Messersmith a Physician Assistant Specialist here in Grimes.
X-ALT-DESC;FMTTYPE=text/html:<span style="font-family: Arial\; font-size: 16px\; text-align: justify\; white-space: pre-wrap\; background-color: rgb(255\, 255\, 255)\;">February is heart health month! </span><span style="font-family: Arial\; font-size: 16px\; text-align: justify\; white-space: pre-wrap\; background-color: rgb(255\, 255\, 255)\; color: rgb(69\, 56\, 54)\;">Heart disease is the leading cause of death for both men and women in the United States. The good news? It is also one of the most preventable.&nbsp\;So join us on the day of love for a hearty presentation by Mercy Clinics Jennifer Messersmith a </span><span style="font-family: Arial\; font-size: 16px\; text-align: justify\; white-space: pre-wrap\; background-color: rgb(255\, 255\, 255)\; color: rgb(51\, 51\, 51)\;">Physician Assistant Specialist here in Grimes.</span>
LOCATION:Grimes Community Complex 410 SE Main Street Grimes\, Iowa View a Map
UID:e.2636.247
SEQUENCE:3
DTSTAMP:20260424T191220Z
URL:https://business.grimesiowa.com/events/details/grimes-chamber-economic-development-expert-edge-february-2018-247
END:VEVENT

END:VCALENDAR
