BEGIN:VCALENDAR
VERSION:2.0
PRODID:-//ChamberMaster//Event Calendar 2.0//EN
METHOD:PUBLISH
X-PUBLISHED-TTL:P3D
REFRESH-INTERVAL:P3D
CALSCALE:GREGORIAN
BEGIN:VEVENT
DTSTART;VALUE=DATE:20160915
DTEND;VALUE=DATE:20160916
TRANSP:TRANSPARENT
X-MICROSOFT-CDO-ALLDAYEVENT:TRUE
SUMMARY:Grimes Chamber & Economic Development Golf Outing
DESCRIPTION:Save the date for the 11th Annual GCED Golf Outing.  \n\n\n\nThis annual event is held by and for the many members and friends of the organization. It is a tremendous networking event as well as a meaningful fundraiser for the organization. Whether you are a sponsor\, a participant\, or both\, this event promises a good investment and a GREAT time!
X-ALT-DESC;FMTTYPE=text/html:<span style="font-size:14px\;"><span style="font-family: arial\;">Save the date for the 11th&nbsp\;Annual GCED Golf Outing. &nbsp\;<br />\n<br />\nThis annual event is held by and for the many members and friends of the organization. It is a tremendous networking event as well as a meaningful fundraiser for the organization. Whether you are a sponsor\, a participant\, or both\, this event promises a good investment and a GREAT time!</span></span>
LOCATION:Beaver Creek Golf Club 11200 NW Towner Dr Grimes\, IA 50111
UID:e.2636.19
SEQUENCE:3
DTSTAMP:20260425T190544Z
URL:https://business.grimesiowa.com/events/details/grimes-chamber-economic-development-golf-outing-09-15-2016-19
END:VEVENT

END:VCALENDAR
