BEGIN:VCALENDAR
VERSION:2.0
PRODID:-//ChamberMaster//Event Calendar 2.0//EN
METHOD:PUBLISH
X-PUBLISHED-TTL:P3D
REFRESH-INTERVAL:P3D
CALSCALE:GREGORIAN
BEGIN:VEVENT
DTSTART:20180111T223000Z
DTEND:20180112T000000Z
X-MICROSOFT-CDO-ALLDAYEVENT:FALSE
SUMMARY:Grimes Chamber & Economic Development HBC Open House
DESCRIPTION:This event has been canceled due to weather! \n\n\n\nThe staff will be celebrating the launch of their 3rd weekly weekend service which will be held on Saturday\, the arrival of Nick Lees\, the new Director of Discipleship & Welcome Ministries\, the installation of 3 Lay Pastors and a surprise announcement for the benefit of the Grimes Community.  Also included will be door prizes and refreshments.  Please bring ideas on how HBC and bless the Grimes Community through service projects.
X-ALT-DESC;FMTTYPE=text/html:<span style="font-size:16px\;"><em><strong>This event has been canceled due to weather! </strong></em></span><br />\n<br />\nThe staff will be celebrating the launch of their 3rd weekly weekend service which will be held on Saturday\, the arrival of Nick Lees\, the new Director of Discipleship &amp\; Welcome Ministries\, the installation of 3 Lay Pastors and a surprise announcement for the benefit of the Grimes Community.&nbsp\; Also included will be door prizes and refreshments.&nbsp\; Please bring ideas on how HBC and bless the Grimes Community through service projects.
LOCATION:
UID:e.2636.1269
SEQUENCE:3
DTSTAMP:20260424T220652Z
URL:https://business.grimesiowa.com/events/details/grimes-chamber-economic-development-hbc-open-house-1269
END:VEVENT

END:VCALENDAR
