BEGIN:VCALENDAR
VERSION:2.0
PRODID:-//ChamberMaster//Event Calendar 2.0//EN
METHOD:PUBLISH
X-PUBLISHED-TTL:P3D
REFRESH-INTERVAL:P3D
CALSCALE:GREGORIAN
BEGIN:VEVENT
DTSTART:20170117T230000Z
DTEND:20170118T003000Z
X-MICROSOFT-CDO-ALLDAYEVENT:FALSE
SUMMARY:Grimes Chamber & Economic Development Ireland Trip Reunion
DESCRIPTION:We are looking forward to reconnecting with our fellow travelers from our trip to Ireland in November of 2015.  Everyone that traveled with us is welcome to join us as we take time to visit and share memories of this wonderful trip.
X-ALT-DESC;FMTTYPE=text/html:We are looking forward to reconnecting with our fellow travelers from our trip to Ireland in November of 2015. &nbsp\;Everyone that traveled with us is welcome to join us as we take time to visit and share memories of this wonderful trip.
LOCATION:Grimes Chamber & Economic Development Letsch Law Firm Board Room 404 SE 2nd St\; Ste 200 Grimes\, IA 50111
UID:e.2636.52
SEQUENCE:3
DTSTAMP:20260425T131149Z
URL:https://business.grimesiowa.com/events/details/grimes-chamber-economic-development-ireland-trip-reunion-52
END:VEVENT

END:VCALENDAR
