BEGIN:VCALENDAR
VERSION:2.0
PRODID:-//ChamberMaster//Event Calendar 2.0//EN
METHOD:PUBLISH
X-PUBLISHED-TTL:P3D
REFRESH-INTERVAL:P3D
CALSCALE:GREGORIAN
BEGIN:VEVENT
DTSTART;VALUE=DATE:20180110
DTEND;VALUE=DATE:20180111
TRANSP:TRANSPARENT
X-MICROSOFT-CDO-ALLDAYEVENT:TRUE
SUMMARY:Grimes Chamber & Economic Development Lunch and Learn- January 2018
DESCRIPTION:Grimes Chamber & Economic Development is honored to have Coach Jennie Baranczyk from Drake University as our keynote speaker at the January Lunch & Learn. Coach Baranczyk will be sharing the story of how she was able to achieve her goals and share some of her wisdom with all of us. This is a Lunch & Learn you will want to attend!
X-ALT-DESC;FMTTYPE=text/html:<span style="font-size:12px\;"><span style="font-family:arial\;">Grimes Chamber &amp\; Economic Development is honored to have <strong><em>Coach Jennie&nbsp\;</em></strong><span style="background:white\;"><span style="color:#222222\;"><strong><em>Baranczyk</em></strong>&nbsp\;from <em><strong>Drake University</strong></em> as our keynote speaker at the January Lunch &amp\; Learn. Coach Baranczyk will be sharing the story of how she was able to achieve her goals and share some of her wisdom with all of us. This is a Lunch &amp\; Learn you will want to attend!&nbsp\;</span></span></span></span>
LOCATION:This event will be held at the Grimes Community Complex (410 SE Main Street\, Grimes\, Iowa) View a Map
UID:e.2636.246
SEQUENCE:3
DTSTAMP:20260424T205119Z
URL:https://business.grimesiowa.com/events/details/grimes-chamber-economic-development-lunch-and-learn-january-2018-246
END:VEVENT

END:VCALENDAR
