BEGIN:VCALENDAR
VERSION:2.0
PRODID:-//ChamberMaster//Event Calendar 2.0//EN
METHOD:PUBLISH
X-PUBLISHED-TTL:P3D
REFRESH-INTERVAL:P3D
CALSCALE:GREGORIAN
BEGIN:VEVENT
DTSTART;VALUE=DATE:20180912
DTEND;VALUE=DATE:20180913
TRANSP:TRANSPARENT
X-MICROSOFT-CDO-ALLDAYEVENT:TRUE
SUMMARY:Grimes Chamber & Economic Development Lunch and Learn- September 2018
DESCRIPTION:Each month Grimes Chamber & Economic Development gives its members the opportunity to meet for networking\, lunch and to learn about items of interest regarding Grimes and the Metro area.  You are invited to join us on the second Wednesday of the month to attend these events.
X-ALT-DESC;FMTTYPE=text/html:Each month Grimes Chamber &amp\; Economic Development gives its members the opportunity to meet for networking\, lunch and to learn about items of interest regarding Grimes and the Metro area.&nbsp\; You are invited to join us on the second Wednesday of the month to attend these events.
LOCATION:This event will be held at the Grimes Community Complex (410 SE Main Street\, Grimes\, Iowa) View a Map
UID:e.2636.253
SEQUENCE:3
DTSTAMP:20260424T091143Z
URL:https://business.grimesiowa.com/events/details/grimes-chamber-economic-development-lunch-and-learn-september-2018-253
END:VEVENT

END:VCALENDAR
