BEGIN:VCALENDAR
VERSION:2.0
PRODID:-//ChamberMaster//Event Calendar 2.0//EN
METHOD:PUBLISH
X-PUBLISHED-TTL:P3D
REFRESH-INTERVAL:P3D
CALSCALE:GREGORIAN
BEGIN:VEVENT
DTSTART:20160810T163000Z
DTEND:20160810T180000Z
X-MICROSOFT-CDO-ALLDAYEVENT:FALSE
SUMMARY:Grimes Chamber & Economic Development Lunch & Learn
DESCRIPTION:Join us on Wednesday\, August 10th as we learn about the new overtime regulations from Kim Jacobsen\, one of the partners with Timmons\, Jacobsen & Strawhacker\, LLP.  The information that will be shared may impact salaried employees which have been exempt from receiving overtime up to this time. This new regulation could boost pay to many workers throughout the United States.  If you are an employer with salaried employees or if your are a salaried employee you will want to attend and become aware of the benefits this new regulation brings into play.
X-ALT-DESC;FMTTYPE=text/html:<span style="font-size:12px\;"><span style="font-family: Verdana\, Geneva\, Arial\, Helvetica\, sans-serif\; text-align: justify\;">Join us on Wednesday\, August 10th as we learn abo</span><span _mce_style="font-size: 14pt\;" style="font-family: Verdana\, Geneva\, Arial\, Helvetica\, sans-serif\; text-align: justify\;">ut the new overtime regulations from Kim Jacobsen\, one of the partners with Timmons\, Jacobsen &amp\; Strawhacker\, LLP. &nbsp\;The information&nbsp\;that will be shared may impact salaried employees which hav</span><span _mce_style="font-size: 14pt\;" style="font-family: Verdana\, Geneva\, Arial\, Helvetica\, sans-serif\; text-align: justify\;">e been exempt from receiving overtime up to this time. This new&nbsp\;</span><span _mce_style="font-size: 14pt\;" style="font-family: Verdana\, Geneva\, Arial\, Helvetica\, sans-serif\; text-align: justify\;">regulation could boost pay to many workers throughout the United States. &nbsp\;If you are an employer with salaried employees or if your are a salaried employee you will want to attend and become aware of the benefits this new regulation brings into play.</span></span>
LOCATION:Grimes Community Complex 410 SE Main Street Grimes\, IA 50111
UID:e.2636.11
SEQUENCE:3
DTSTAMP:20260425T202837Z
URL:https://business.grimesiowa.com/events/details/grimes-chamber-economic-development-lunch-learn-08-10-2016-11
END:VEVENT

END:VCALENDAR
