BEGIN:VCALENDAR
VERSION:2.0
PRODID:-//ChamberMaster//Event Calendar 2.0//EN
METHOD:PUBLISH
X-PUBLISHED-TTL:P3D
REFRESH-INTERVAL:P3D
CALSCALE:GREGORIAN
BEGIN:VEVENT
DTSTART:20160914T163000Z
DTEND:20160914T180000Z
X-MICROSOFT-CDO-ALLDAYEVENT:FALSE
SUMMARY:Grimes Chamber & Economic Development Lunch & Learn
DESCRIPTION:Join us on Wednesday\, September 14th as we hear from Michael Libbie\, host and founder of Insight on Business.  Michael will give us "Tips on Media Relations".   Michael's knowledge and messages will inspire\, engage and move us forward. His experience weaves captivating real-world stories into "take home ideas" that you can start to implement in your career.
X-ALT-DESC;FMTTYPE=text/html:<span style="font-size:12px\;"><span style="font-family: Verdana\, Geneva\, Arial\, Helvetica\, sans-serif\; text-align: justify\;">Join us on Wednesday\, September 14th as we hear from Michael Libbie\, host and founder of Insight on Business. &nbsp\;Michael will give us &quot\;Tips on Media Relations&quot\;. &nbsp\;&nbsp\;Michael&#39\;s knowledge and messages will inspire\, engage and move us forward. His experience weaves captivating real-world stories into &quot\;take home ideas&quot\; that you can start to implement in your career.</span></span>\n\n<p style="margin-top: 0px\; color: rgb(102\, 102\, 102)\; font-size: 14px\; line-height: 20px\; background-color: rgb(255\, 255\, 255)\;"><br />\n&nbsp\;</p>\n
LOCATION:Grimes Community Complex 410 SE Main Street Grimes\, IA 50111
UID:e.2636.25
SEQUENCE:3
DTSTAMP:20260425T190604Z
URL:https://business.grimesiowa.com/events/details/grimes-chamber-economic-development-lunch-learn-09-14-2016-25
END:VEVENT

END:VCALENDAR
