BEGIN:VCALENDAR
VERSION:2.0
PRODID:-//ChamberMaster//Event Calendar 2.0//EN
METHOD:PUBLISH
X-PUBLISHED-TTL:P3D
REFRESH-INTERVAL:P3D
CALSCALE:GREGORIAN
BEGIN:VEVENT
DTSTART:20161012T163000Z
DTEND:20161012T180000Z
X-MICROSOFT-CDO-ALLDAYEVENT:FALSE
SUMMARY:Grimes Chamber & Economic Development Lunch & Learn
DESCRIPTION:Join us on Wednesday\, October 12th as we hear from Children and Families of Iowa. Stephanie Brewer\, Connect 2 Careers Case Manager will be our presenter.  This program provides support and skills necessary for success in school and work.  Come and learn how the business community can be involved supporting this program.
X-ALT-DESC;FMTTYPE=text/html:<span style="font-size:12px\;"><span style="font-family: Verdana\, Geneva\, Arial\, Helvetica\, sans-serif\; text-align: justify\;">Join us on Wednesday\, October 12th as we hear from Children and Families of Iowa. Stephanie Brewer\, Connect 2 Careers Case Manager will be our presenter. &nbsp\;This program provides support and skills necessary for success in school and work. &nbsp\;Come and learn how the business community can be involved supporting this program.</span></span>\n\n<p style="margin-top: 0px\; color: rgb(102\, 102\, 102)\; font-size: 14px\; line-height: 20px\; background-color: rgb(255\, 255\, 255)\;"><br />\n&nbsp\;</p>\n
LOCATION:Grimes Community Complex 410 SE Main Street Grimes\, IA 50111
UID:e.2636.32
SEQUENCE:3
DTSTAMP:20260425T175133Z
URL:https://business.grimesiowa.com/events/details/grimes-chamber-economic-development-lunch-learn-32
END:VEVENT

END:VCALENDAR
