BEGIN:VCALENDAR
VERSION:2.0
PRODID:-//ChamberMaster//Event Calendar 2.0//EN
METHOD:PUBLISH
X-PUBLISHED-TTL:P3D
REFRESH-INTERVAL:P3D
CALSCALE:GREGORIAN
BEGIN:VEVENT
DTSTART:20161214T173000Z
DTEND:20161214T190000Z
X-MICROSOFT-CDO-ALLDAYEVENT:FALSE
SUMMARY:Grimes Chamber & Economic Development Lunch & Learn
DESCRIPTION:Join us on Wednesday\, December 14th at our Annual Holiday Lunch & Learn.  Once again the music department at Dallas Center-Grimes will be sharing their vocal and instrumental talents with our membership.  This annual event is a welcome respite in our busy holiday schedules. Lunch will be served in the media center.  Please register today.
X-ALT-DESC;FMTTYPE=text/html:<span style="font-size:12px\;"><span style="font-family: Verdana\, Geneva\, Arial\, Helvetica\, sans-serif\; text-align: justify\;">Join us on Wednesday\, December 14th at our&nbsp\;Annual Holiday Lunch &amp\; Learn. &nbsp\;Once again the music department at Dallas Center-Grimes will be sharing their vocal and instrumental talents with our membership. &nbsp\;This annual event is a welcome respite in our busy holiday schedules. Lunch will be served in the media center. &nbsp\;Please register today.</span></span>\n\n<p style="margin-top: 0px\; color: rgb(102\, 102\, 102)\; font-size: 14px\; line-height: 20px\; background-color: rgb(255\, 255\, 255)\;"><br />\n&nbsp\;</p>\n
LOCATION:Dallas Center - Grimes High School 2555 W 1st St Grimes\, IA 50111
UID:e.2636.39
SEQUENCE:3
DTSTAMP:20260425T145522Z
URL:https://business.grimesiowa.com/events/details/grimes-chamber-economic-development-lunch-learn-39
END:VEVENT

END:VCALENDAR
