BEGIN:VCALENDAR
VERSION:2.0
PRODID:-//ChamberMaster//Event Calendar 2.0//EN
METHOD:PUBLISH
X-PUBLISHED-TTL:P3D
REFRESH-INTERVAL:P3D
CALSCALE:GREGORIAN
BEGIN:VEVENT
DTSTART:20170111T173000Z
DTEND:20170111T190000Z
X-MICROSOFT-CDO-ALLDAYEVENT:FALSE
SUMMARY:Grimes Chamber & Economic Development Lunch & Learn - DC-G Education Foundation
DESCRIPTION:The Dallas Center-Grimes Education Foundation will be presenting on the development of this entity\, their mission\, their accomplishments to date and their future goals. All businesses will be invited to the February 17th\, fundraising breakfast.  Please join us to learn more about this vital organization.
X-ALT-DESC;FMTTYPE=text/html:The Dallas Center-Grimes Education Foundation will be presenting on the development of this entity\, their mission\, their accomplishments to date and their future goals. All businesses will be invited to the February 17th\,&nbsp\;fundraising breakfast. &nbsp\;Please join us to learn more about this vital organization.
LOCATION:This event will be held at the Grimes Community Complex (410 SE Main Street\, Grimes\, Iowa)
UID:e.2636.49
SEQUENCE:3
DTSTAMP:20260425T131034Z
URL:https://business.grimesiowa.com/events/details/grimes-chamber-economic-development-lunch-learn-dc-g-education-foundation-49
END:VEVENT

END:VCALENDAR
