BEGIN:VCALENDAR
VERSION:2.0
PRODID:-//ChamberMaster//Event Calendar 2.0//EN
METHOD:PUBLISH
X-PUBLISHED-TTL:P3D
REFRESH-INTERVAL:P3D
CALSCALE:GREGORIAN
BEGIN:VEVENT
DTSTART:20171011T163000Z
DTEND:20171011T180000Z
X-MICROSOFT-CDO-ALLDAYEVENT:FALSE
SUMMARY:Grimes Chamber & Economic Development Lunch & Learn - Erin Benko with Dale Carnegie Training
DESCRIPTION:The October Lunch & Learn will feature Erin Benko from Dale Carnegie Training.  Erin has beenm with the Dale Carnegie Systems since 2011 and will share with ourmembership her expertise in the area of client development.  Don't miss out!
X-ALT-DESC;FMTTYPE=text/html:The October Lunch &amp\; Learn will feature Erin Benko from Dale Carnegie Training. &nbsp\;Erin has beenm with the Dale Carnegie Systems since 2011 and will share with ourmembership her expertise in the area of client development. &nbsp\;Don&#39\;t miss out!
LOCATION:This event will be held at the Grimes Community Complex (410 SE Main Street\, Grimes\, Iowa)
UID:e.2636.231
SEQUENCE:3
DTSTAMP:20260425T020650Z
URL:https://business.grimesiowa.com/events/details/grimes-chamber-economic-development-lunch-learn-erin-benko-with-dale-carnegie-training-231
END:VEVENT

END:VCALENDAR
