BEGIN:VCALENDAR
VERSION:2.0
PRODID:-//ChamberMaster//Event Calendar 2.0//EN
METHOD:PUBLISH
X-PUBLISHED-TTL:P3D
REFRESH-INTERVAL:P3D
CALSCALE:GREGORIAN
BEGIN:VEVENT
DTSTART:20170913T163000Z
DTEND:20170913T180000Z
X-MICROSOFT-CDO-ALLDAYEVENT:FALSE
SUMMARY:Grimes Chamber & Economic Development Lunch & Learn - Fire Chief Jim Clark
DESCRIPTION:Please join us as Fire Chief Jim Clark shares with us all things fire department related including recent changes and the rebranding of the Johnston / Grimes Metro Fire Department.  He will also share information on what businesses can expect during a routine fire inspection.  This Lunch & Learn is something you will not want to miss.
X-ALT-DESC;FMTTYPE=text/html:Please join us as Fire Chief Jim Clark shares with us all things fire department related including recent changes and the rebranding of the Johnston / Grimes Metro Fire Department. &nbsp\;He will also share information on what businesses can expect during a routine fire inspection. &nbsp\;This Lunch &amp\; Learn is something you will not want to miss.&nbsp\;
LOCATION:This event will be held at the Grimes Community Complex (410 SE Main Street\, Grimes\, Iowa)
UID:e.2636.224
SEQUENCE:3
DTSTAMP:20260425T021128Z
URL:https://business.grimesiowa.com/events/details/grimes-chamber-economic-development-lunch-learn-fire-chief-jim-clark-224
END:VEVENT

END:VCALENDAR
