BEGIN:VCALENDAR
VERSION:2.0
PRODID:-//ChamberMaster//Event Calendar 2.0//EN
METHOD:PUBLISH
X-PUBLISHED-TTL:P3D
REFRESH-INTERVAL:P3D
CALSCALE:GREGORIAN
BEGIN:VEVENT
DTSTART:20160413T163000Z
DTEND:20160413T180000Z
X-MICROSOFT-CDO-ALLDAYEVENT:FALSE
SUMMARY:Grimes Chamber & Economic Development Lunch & Learn - "Jester Park Nature Center"
DESCRIPTION:Polk County Conservation and the Great Outdoors Foundation have teamed up to bring one of Iowa's leading nature centers to this area.  As a place where education and tourism intersect\, Jester Park Nature Center will provide exceptional value and leadership through avenues of recreation\, education and conservation. Join us and learn more.
X-ALT-DESC;FMTTYPE=text/html:Polk County Conservation and the Great Outdoors Foundation have teamed up to bring one of Iowa&#39\;s leading nature centers to this area. &nbsp\;As a place where education and tourism intersect\, Jester Park Nature Center will provide exceptional value and leadership through avenues of recreation\, education and conservation. Join us and learn more.
LOCATION:This event will be held at the Grimes Community Complex (410 SE Main Street\, Grimes\, Iowa) in the Banquet Hall.
UID:e.2636.2
SEQUENCE:3
DTSTAMP:20260426T023334Z
URL:https://business.grimesiowa.com/events/details/grimes-chamber-economic-development-lunch-learn-jester-park-nature-center-04-13-2016-2
END:VEVENT

END:VCALENDAR
