BEGIN:VCALENDAR
VERSION:2.0
PRODID:-//ChamberMaster//Event Calendar 2.0//EN
METHOD:PUBLISH
X-PUBLISHED-TTL:P3D
REFRESH-INTERVAL:P3D
CALSCALE:GREGORIAN
BEGIN:VEVENT
DTSTART:20180711T163000Z
DTEND:20180711T180000Z
X-MICROSOFT-CDO-ALLDAYEVENT:FALSE
SUMMARY:Grimes Chamber & Economic Development Lunch & Learn- July 2018
DESCRIPTION:This month join us on a presentation by the Iowa Auditor of State Mary Mosiman regarding Fiscal Responsibility and State of Iowa Finances. This is a new initiative and we want you to be apart of it! May Mosiman has been serving as Iowa's State Auditor since May of 2013. She was elected to a four-year term on November 4\, 2014\, becoming the first female elected State Auditor in Iowa history. Join us as we learn about Fiscal Responsibility and Iowa's finances.
X-ALT-DESC;FMTTYPE=text/html:<span style="font-size:12px\;"><span style="font-family:arial\;">This month join us on a presentation by the Iowa Auditor of State Mary Mosiman&nbsp\;regarding Fiscal Responsibility and State of Iowa Finances. This is a new initiative and we want you to be apart of it! May Mosiman&nbsp\;has<span style="color: rgb(42\, 42\, 42)\; text-align: justify\; background-color: rgb(255\, 255\, 255)\;">&nbsp\;been serving as Iowa&rsquo\;s State Auditor since May of 2013. She was elected to a four-year term on November 4\, 2014\, becoming the first female elected State Auditor in Iowa history. Join us as we learn about Fiscal Responsibility and Iowa&#39\;s finances.&nbsp\;</span></span></span>
LOCATION:This event will be held at the Grimes Community Complex (410 SE Main Street\, Grimes\, Iowa) View a Map
UID:e.2636.251
SEQUENCE:3
DTSTAMP:20260424T120327Z
URL:https://business.grimesiowa.com/events/details/grimes-chamber-economic-development-lunch-learn-july-2018-251
END:VEVENT

END:VCALENDAR
