BEGIN:VCALENDAR
VERSION:2.0
PRODID:-//ChamberMaster//Event Calendar 2.0//EN
METHOD:PUBLISH
X-PUBLISHED-TTL:P3D
REFRESH-INTERVAL:P3D
CALSCALE:GREGORIAN
BEGIN:VEVENT
DTSTART:20180314T163000Z
DTEND:20180314T180000Z
X-MICROSOFT-CDO-ALLDAYEVENT:FALSE
SUMMARY:Grimes Chamber & Economic Development Lunch & Learn- March 2018
DESCRIPTION:Guest speaker Tiffany Tokarz is with Modern Muse Consulting. She is a growth specialist and has been a guest speaker around the state and was a speaker at the Greater Des Moines Partnerships Small Business Success summit this past year. Tiffany will be touching on the topics of growth\, mindset and habits. This will be a speaker you won't want to miss. \n\n\n\nAlso\, a few members of the Grimes based Rotary Club of West Polk County will be on hand to share information about their organization.
X-ALT-DESC;FMTTYPE=text/html:Guest speaker Tiffany Tokarz&nbsp\;is with Modern Muse Consulting. She is a growth specialist and has been a guest speaker around the state and was a speaker at the Greater Des Moines Partnerships Small Business Success summit this past year. Tiffany will be touching on the topics of growth\, mindset and habits. This will be a speaker you won&#39\;t want to miss.&nbsp\;<br />\n<br />\nAlso\, a few members of the Grimes based Rotary Club of West Polk County will be on hand to share information about their organization.
LOCATION:Grimes Community Complex 410 SE Main Street Grimes\, Iowa
UID:e.2636.248
SEQUENCE:3
DTSTAMP:20260424T173445Z
URL:https://business.grimesiowa.com/events/details/grimes-chamber-economic-development-lunch-learn-march-2018-248
END:VEVENT

END:VCALENDAR
