BEGIN:VCALENDAR
VERSION:2.0
PRODID:-//ChamberMaster//Event Calendar 2.0//EN
METHOD:PUBLISH
X-PUBLISHED-TTL:P3D
REFRESH-INTERVAL:P3D
CALSCALE:GREGORIAN
BEGIN:VEVENT
DTSTART:20180509T163000Z
DTEND:20180509T180000Z
X-MICROSOFT-CDO-ALLDAYEVENT:FALSE
SUMMARY:Grimes Chamber & Economic Development Lunch & Learn- May 2018
DESCRIPTION:Join us on Wednesday\, May 9th\, as we hear from Jan Milroy\, Volunteer Coordinator for Living History Farms.  Jan will talk about how they coordinator a large group of volunteers\, how they find good volunteers\, and hear all about what is going on out at Living History Farms. This Lunch & Learn is sponsored by Letsch Law Firm.
X-ALT-DESC;FMTTYPE=text/html:<span style="color: rgb(51\, 51\, 51)\; font-family: Verdana\, Geneva\, Arial\, Helvetica\, sans-serif\; font-size: 12px\; text-align: justify\; background-color: rgb(255\, 255\, 255)\;">Join us on Wednesday\, May 9th\,</span><span style="color: rgb(51\, 51\, 51)\; font-family: Verdana\, Geneva\, Arial\, Helvetica\, sans-serif\; font-size: 12px\; text-align: justify\; background-color: rgb(255\, 255\, 255)\;">&nbsp\;as we hear from Jan Milroy</span><span style="color: rgb(51\, 51\, 51)\; font-family: Verdana\, Geneva\, Arial\, Helvetica\, sans-serif\; font-size: 12px\; text-align: justify\; background-color: rgb(255\, 255\, 255)\;">\, Volunteer Coordinator for Living History Farms. &nbsp\;Jan will talk about how they coordinator a large group of volunteers\, how they find good volunteers\, and hear all about what is going on out at Living History Farms. This Lunch &amp\; Learn is sponsored by <em><strong>Letsch Law Firm</strong></em>.&nbsp\;</span>
LOCATION:This event will be held at the Grimes Community Complex (410 SE Main Street\, Grimes\, Iowa) View a Map
UID:e.2636.250
SEQUENCE:3
DTSTAMP:20260424T144050Z
URL:https://business.grimesiowa.com/events/details/grimes-chamber-economic-development-lunch-learn-may-2018-250
END:VEVENT

END:VCALENDAR
