BEGIN:VCALENDAR
VERSION:2.0
PRODID:-//ChamberMaster//Event Calendar 2.0//EN
METHOD:PUBLISH
X-PUBLISHED-TTL:P3D
REFRESH-INTERVAL:P3D
CALSCALE:GREGORIAN
BEGIN:VEVENT
DTSTART:20170308T173000Z
DTEND:20170308T190000Z
X-MICROSOFT-CDO-ALLDAYEVENT:FALSE
SUMMARY:Grimes Chamber & Economic Development Lunch & Learn - The Business Brokers
DESCRIPTION:Please join us as we hear from Mike Schoville\, Principal of The Business Brokers\, Inc.  Mike will share with us during his presentation the keys to selling your business and how to buy a business.  This topic will provide very useful information to our members.
X-ALT-DESC;FMTTYPE=text/html:Please join us as we hear from Mike Schoville\, Principal of The Business Brokers\, Inc. &nbsp\;Mike will share with us during his presentation the keys to selling your business and how to buy a business. &nbsp\;This topic will provide very useful information to our members.
LOCATION:This event will be held at the Grimes Community Complex (410 SE Main Street\, Grimes\, Iowa)
UID:e.2636.58
SEQUENCE:3
DTSTAMP:20260425T102143Z
URL:https://business.grimesiowa.com/events/details/grimes-chamber-economic-development-lunch-learn-the-business-brokers-58
END:VEVENT

END:VCALENDAR
