BEGIN:VCALENDAR
VERSION:2.0
PRODID:-//ChamberMaster//Event Calendar 2.0//EN
METHOD:PUBLISH
X-PUBLISHED-TTL:P3D
REFRESH-INTERVAL:P3D
CALSCALE:GREGORIAN
BEGIN:VEVENT
DTSTART:20160309T173000Z
DTEND:20160309T190000Z
X-MICROSOFT-CDO-ALLDAYEVENT:FALSE
SUMMARY:Grimes Chamber & Economic Development Lunch & Learn w/Tom Henricksen
DESCRIPTION:Tom Henricksen (My IT Career Coach) will be our guest at the Grimes Chamber & Economic Development Lunch & Learn.   He will be presenting on "Leadership".
X-ALT-DESC;FMTTYPE=text/html:<strong>Tom Henricksen (My IT Career Coach) will be our guest at the Grimes Chamber &amp\; Economic Development Lunch &amp\; Learn.&nbsp\;&nbsp\; He will be presenting on &quot\;Leadership&quot\;.</strong>
LOCATION:This event will be held at the Grimes Community Complex (410 SE Main Street\, Grimes\, Iowa) in the Banquet Hall.
UID:e.2636.1
SEQUENCE:3
DTSTAMP:20260426T035536Z
URL:https://business.grimesiowa.com/events/details/grimes-chamber-economic-development-lunch-learn-w-tom-henricksen-03-09-2016-1
END:VEVENT

END:VCALENDAR
