BEGIN:VCALENDAR
VERSION:2.0
PRODID:-//ChamberMaster//Event Calendar 2.0//EN
METHOD:PUBLISH
X-PUBLISHED-TTL:P3D
REFRESH-INTERVAL:P3D
CALSCALE:GREGORIAN
BEGIN:VEVENT
DTSTART:20170208T173000Z
DTEND:20170208T190000Z
X-MICROSOFT-CDO-ALLDAYEVENT:FALSE
SUMMARY:Grimes Chamber & Economic Development Lunch & Learn - YOU are the Program
DESCRIPTION:Please join us as we learn about Grimes Chamber Members businesses and the services that they provide.  This annual Lunch & Learn is always a great way to become more familiar with our local business community.
X-ALT-DESC;FMTTYPE=text/html:Please join us as we learn about Grimes Chamber Members businesses and the services that they provide. &nbsp\;This annual Lunch &amp\; Learn is always a great way to become more familiar with our local business community.
LOCATION:This event will be held at the Grimes Community Complex (410 SE Main Street\, Grimes\, Iowa)
UID:e.2636.53
SEQUENCE:3
DTSTAMP:20260425T130943Z
URL:https://business.grimesiowa.com/events/details/grimes-chamber-economic-development-lunch-learn-you-are-the-program-53
END:VEVENT

END:VCALENDAR
