BEGIN:VCALENDAR
VERSION:2.0
PRODID:-//ChamberMaster//Event Calendar 2.0//EN
METHOD:PUBLISH
X-PUBLISHED-TTL:P3D
REFRESH-INTERVAL:P3D
CALSCALE:GREGORIAN
BEGIN:VEVENT
DTSTART;VALUE=DATE:20181010
DTEND;VALUE=DATE:20181011
TRANSP:TRANSPARENT
X-MICROSOFT-CDO-ALLDAYEVENT:TRUE
SUMMARY:Grimes Chamber & Economic Development October 2018 Expert Edge Seminar
DESCRIPTION:This Expert Edge Presentation is brought to you by Back to Health Chiropractic. Please join us and hear all about Back to Health Chiropractic and what they can do for you!
X-ALT-DESC;FMTTYPE=text/html:This Expert Edge Presentation is brought to you by Back to Health Chiropractic. Please join us and hear all about Back to Health Chiropractic and what they can do for you!&nbsp\;
LOCATION:This event will be held at the Grimes Community Complex (410 SE Main Street\, Grimes\, Iowa) View a Map
UID:e.2636.254
SEQUENCE:3
DTSTAMP:20260424T091246Z
URL:https://business.grimesiowa.com/events/details/grimes-chamber-economic-development-october-2018-expert-edge-seminar-254
END:VEVENT

END:VCALENDAR
