BEGIN:VCALENDAR
VERSION:2.0
PRODID:-//ChamberMaster//Event Calendar 2.0//EN
METHOD:PUBLISH
X-PUBLISHED-TTL:P3D
REFRESH-INTERVAL:P3D
CALSCALE:GREGORIAN
BEGIN:VEVENT
DTSTART:20180911T123000Z
DTEND:20180911T133000Z
X-MICROSOFT-CDO-ALLDAYEVENT:FALSE
SUMMARY:Grimes Chamber & Economic Development Percolate A.M.
DESCRIPTION:You are invited to the  morning networking event\, Percolate A.M. September 11th will forever be in our memories.  Please join us at VisionBank as we celebrate America with the raising of the flag\, the Pledge of Allegiance and speakers from Home Base Iowa\, Operation Middle Ground and the Boy Scouts.
X-ALT-DESC;FMTTYPE=text/html:<span style="color: rgb(63\, 63\, 77)\; font-family: open_sansregular\, arial\, sans-serif\; font-size: 14px\;">You are invited to the &nbsp\;morning networking event\, Percolate A.M. September 11th will forever be in our memories. &nbsp\;Please join us at VisionBank as we celebrate America with the raising of the flag\, the Pledge of Allegiance and speakers from Home Base Iowa\, Operation Middle Ground and the Boy Scouts.</span>
LOCATION:Vision Bank 925 SE Gateway Dr Grimes\, IA 50111
UID:e.2636.1308
SEQUENCE:3
DTSTAMP:20260424T091025Z
URL:https://business.grimesiowa.com/events/details/grimes-chamber-economic-development-percolate-a-m-1308
END:VEVENT

END:VCALENDAR
