BEGIN:VCALENDAR
VERSION:2.0
PRODID:-//ChamberMaster//Event Calendar 2.0//EN
METHOD:PUBLISH
X-PUBLISHED-TTL:P3D
REFRESH-INTERVAL:P3D
CALSCALE:GREGORIAN
BEGIN:VEVENT
DTSTART:20170825T123000Z
DTEND:20170825T133000Z
X-MICROSOFT-CDO-ALLDAYEVENT:FALSE
SUMMARY:Grimes Chamber & Economic Development Percolate A.M.
DESCRIPTION:You are invited to the  morning networking event\, Percolate A.M. This event will allow for you to hear a presentation by Koester Construction and hear all about their new projects going on in and around Grimes. Today's host\, Cintas will be providing coffee and morning snacks.
X-ALT-DESC;FMTTYPE=text/html:You are invited to the &nbsp\;morning networking event\, Percolate A.M. This event will allow for you to hear a presentation by <em><strong>Koester Construction</strong></em>&nbsp\;and hear all about their new projects going on in and around Grimes. Today&#39\;s host\, <em><b>Cintas</b>&nbsp\;</em>will be providing coffee and morning snacks.&nbsp\;
LOCATION:Cintas 1300 SE Gateway Dr Grimes\, IA 50111
UID:e.2636.228
SEQUENCE:3
DTSTAMP:20260425T032848Z
URL:https://business.grimesiowa.com/events/details/grimes-chamber-economic-development-percolate-a-m-228
END:VEVENT

END:VCALENDAR
