BEGIN:VCALENDAR
VERSION:2.0
PRODID:-//ChamberMaster//Event Calendar 2.0//EN
METHOD:PUBLISH
X-PUBLISHED-TTL:P3D
REFRESH-INTERVAL:P3D
CALSCALE:GREGORIAN
BEGIN:VEVENT
DTSTART:20170302T000000Z
DTEND:20170302T013000Z
X-MICROSOFT-CDO-ALLDAYEVENT:FALSE
SUMMARY:Grimes Chamber & Economic Development Reflections of Italy Trip Kick Off
DESCRIPTION:You are all invited to join us as we learn the details of GCED's upcoming trip to Italy.  We have partnered with the Johnston Chamber of Commerce\, Travel & Transport and Collette Travels to put together a memorable trip Reflections of Italy.  We will travel to Rome\, Venice and Florence with an awesome group.  Plan on attending to see what this magnificent trip is all about. Dates of the the trip are November 1-10\, 2017. No cost to attend. RSVP's encouraged but not required.
X-ALT-DESC;FMTTYPE=text/html:You are all invited to join us as we learn the details of GCED&#39\;s upcoming trip to Italy. &nbsp\;We have partnered with the Johnston Chamber of Commerce\, Travel &amp\; Transport and Collette Travels to put together a memorable trip Reflections of Italy. &nbsp\;We will travel to Rome\, Venice and Florence with an awesome group. &nbsp\;Plan on attending to see what this magnificent trip is all about. Dates of the the trip are November 1-10\, 2017. No cost to attend. RSVP&#39\;s encouraged but not required.
LOCATION:VisionBank 925 SE Gateway Drive Grimes\, IA 50111
UID:e.2636.55
SEQUENCE:3
DTSTAMP:20260425T102215Z
URL:https://business.grimesiowa.com/events/details/grimes-chamber-economic-development-reflections-of-italy-trip-kick-off-55
END:VEVENT

END:VCALENDAR
