BEGIN:VCALENDAR
VERSION:2.0
PRODID:-//ChamberMaster//Event Calendar 2.0//EN
METHOD:PUBLISH
X-PUBLISHED-TTL:P3D
REFRESH-INTERVAL:P3D
CALSCALE:GREGORIAN
BEGIN:VEVENT
DTSTART:20171019T213000Z
DTEND:20171019T223000Z
X-MICROSOFT-CDO-ALLDAYEVENT:FALSE
SUMMARY:Grimes Chamber & Economic Development Ribbon Cutting Celebration (4 Seasons Nails)
DESCRIPTION:Please join us as we welcome 4 Seasons Nails to Grimes with a Ribbon Cutting Ceremony.This new business recently purchased a salon in Grimes and is looking forward to serving the community
X-ALT-DESC;FMTTYPE=text/html:Please join us as we welcome 4 Seasons Nails to Grimes with a Ribbon Cutting Ceremony.This new business recently purchased a salon in Grimes and is looking forward to serving the community &nbsp\;
LOCATION:4 Seasons Nails 250 SE Destination Dr\; Ste 400 Grimes\, IA 50111
UID:e.2636.234
SEQUENCE:3
DTSTAMP:20260425T020416Z
URL:https://business.grimesiowa.com/events/details/grimes-chamber-economic-development-ribbon-cutting-celebration-4-seasons-nails-234
END:VEVENT

END:VCALENDAR
