BEGIN:VCALENDAR
VERSION:2.0
PRODID:-//ChamberMaster//Event Calendar 2.0//EN
METHOD:PUBLISH
X-PUBLISHED-TTL:P3D
REFRESH-INTERVAL:P3D
CALSCALE:GREGORIAN
BEGIN:VEVENT
DTSTART:20161209T160000Z
DTEND:20161209T163000Z
X-MICROSOFT-CDO-ALLDAYEVENT:FALSE
SUMMARY:Grimes Chamber & Economic Development Ribbon Cutting Celebration Casey's General Store
DESCRIPTION:Please join us as we welcome the new Casey's General Store to Grimes with a Ribbon Cutting Ceremony.This new business just opened their doors and is looking forward to serving our community
X-ALT-DESC;FMTTYPE=text/html:Please join us as we welcome the new Casey&#39\;s General Store to Grimes with a Ribbon Cutting Ceremony.This new business just opened their doors and is looking forward to serving our community &nbsp\;
LOCATION:Casey's General Store 951 SE Gateway Dr Grimes\, IA 50111
UID:e.2636.47
SEQUENCE:3
DTSTAMP:20260425T145713Z
URL:https://business.grimesiowa.com/events/details/grimes-chamber-economic-development-ribbon-cutting-celebration-casey-s-general-store-47
END:VEVENT

END:VCALENDAR
