BEGIN:VCALENDAR
VERSION:2.0
PRODID:-//ChamberMaster//Event Calendar 2.0//EN
METHOD:PUBLISH
X-PUBLISHED-TTL:P3D
REFRESH-INTERVAL:P3D
CALSCALE:GREGORIAN
BEGIN:VEVENT
DTSTART:20161129T223000Z
DTEND:20161129T233000Z
X-MICROSOFT-CDO-ALLDAYEVENT:FALSE
SUMMARY:Grimes Chamber & Economic Development Ribbon Cutting Celebration (Grimes Community Complex Banquet Hall)
DESCRIPTION:Please join us as we celebrate the newly remodeled Banquet Hall at the Grimes Community Complex with a Ribbon Cutting. Crossroads Community Church has worked tirelessly to make significant improvements to the facility.  Please help us show our appreciation for the contributions they have made to the community. Refreshments following the ceremony.
X-ALT-DESC;FMTTYPE=text/html:Please join us as we celebrate the newly remodeled Banquet Hall at the Grimes Community Complex with a Ribbon Cutting. Crossroads Community Church has worked tirelessly to make significant improvements to the facility. &nbsp\;Please help us show our appreciation for the contributions they have made to the community. Refreshments following the ceremony.&nbsp\;
LOCATION:Grimes Community Complex 410 SE Main St Grimes\, IA 50111
UID:e.2636.42
SEQUENCE:3
DTSTAMP:20260425T162621Z
URL:https://business.grimesiowa.com/events/details/grimes-chamber-economic-development-ribbon-cutting-celebration-grimes-community-complex-banquet-hall-42
END:VEVENT

END:VCALENDAR
