BEGIN:VCALENDAR
VERSION:2.0
PRODID:-//ChamberMaster//Event Calendar 2.0//EN
METHOD:PUBLISH
X-PUBLISHED-TTL:P3D
REFRESH-INTERVAL:P3D
CALSCALE:GREGORIAN
BEGIN:VEVENT
DTSTART:20161117T220000Z
DTEND:20161117T233000Z
X-MICROSOFT-CDO-ALLDAYEVENT:FALSE
SUMMARY:Grimes Chamber & Economic Development Ribbon Cutting Celebration (Heritage at Grimes/Beaverbrook Blvd. Grand Opening)
DESCRIPTION:Join us a we celebrate the Grand Opening of the new Beaverbrooke Bridge in the Heritage of Grimes development in memory of Gene Gabus.  Preceding the ceremony refreshments will be served at the Genesis Model Home located at 309 NE 14th Court\, Grimes.  Following the ceremony there will be FIREWORKS.
X-ALT-DESC;FMTTYPE=text/html:Join us a we celebrate the Grand Opening of the new Beaverbrooke Bridge in the Heritage of Grimes development in memory of Gene Gabus. &nbsp\;Preceding the ceremony refreshments will be served at the Genesis Model Home located at 309 NE 14th Court\, Grimes. &nbsp\;Following the ceremony there will be FIREWORKS.
LOCATION:Beaverbrooke Bridge Heritage of Grimes Development Grimes\, IA 50111
UID:e.2636.41
SEQUENCE:3
DTSTAMP:20260425T162937Z
URL:https://business.grimesiowa.com/events/details/grimes-chamber-economic-development-ribbon-cutting-celebration-heritage-at-grimes-beaverbrook-blvd-grand-opening-41
END:VEVENT

END:VCALENDAR
