BEGIN:VCALENDAR
VERSION:2.0
PRODID:-//ChamberMaster//Event Calendar 2.0//EN
METHOD:PUBLISH
X-PUBLISHED-TTL:P3D
REFRESH-INTERVAL:P3D
CALSCALE:GREGORIAN
BEGIN:VEVENT
DTSTART:20171115T223000Z
DTEND:20171115T233000Z
X-MICROSOFT-CDO-ALLDAYEVENT:FALSE
SUMMARY:Grimes Chamber & Economic Development Ribbon Cutting Celebration (Ignit/Body Ignit)
DESCRIPTION:Please join us as we welcome Ignit and their new adult and family fitness center\, Body Ignit\, to their new location in Grimes. Their new building will be located at 3801 South James Street\; Suite 100. Come see what fitness is all about.
X-ALT-DESC;FMTTYPE=text/html:Please join us as we welcome <em><strong>Ignit</strong></em> and their new adult and family fitness center\, <em><strong>Body Ignit</strong></em>\, to their new location in Grimes.&nbsp\;Their new building will be located at 3801 South James Street\; Suite 100. Come see what fitness is all about.
LOCATION:Body Ignit 3801 S James Street\; Suite 100 Grimes\, IA 50111
UID:e.2636.232
SEQUENCE:3
DTSTAMP:20260424T233217Z
URL:https://business.grimesiowa.com/events/details/grimes-chamber-economic-development-ribbon-cutting-celebration-ignit-body-ignit-232
END:VEVENT

END:VCALENDAR
