BEGIN:VCALENDAR
VERSION:2.0
PRODID:-//ChamberMaster//Event Calendar 2.0//EN
METHOD:PUBLISH
X-PUBLISHED-TTL:P3D
REFRESH-INTERVAL:P3D
CALSCALE:GREGORIAN
BEGIN:VEVENT
DTSTART:20160922T210000Z
DTEND:20160922T223000Z
X-MICROSOFT-CDO-ALLDAYEVENT:FALSE
SUMMARY:Grimes Chamber & Economic Development Ribbon Cutting Celebration (Kennybrook Village)
DESCRIPTION:Join us as we help Kennybrook Village celebrate 5 great years here in Grimes with a Ribbon Cutting Ceremony.  Everyone is invited to join in this great occasion and stay for the social hour following the ribbon cutting. Refreshments will include hors d'oeuvres and some of your favorite beverages.
X-ALT-DESC;FMTTYPE=text/html:<span style="font-family:arial\;">Join us as we help Kennybrook Village celebrate 5 great years here in Grimes with a Ribbon Cutting Ceremony. &nbsp\;Everyone is invited to join in this great occasion and stay for the social hour following the ribbon cutting. Refreshments will include&nbsp\;hors d&rsquo\;oeuvres and some of your favorite beverages.</span>
LOCATION:Kennybrook Village 200 SW Brookside Drive Grimes\, IA
UID:e.2636.21
SEQUENCE:3
DTSTAMP:20260425T190818Z
URL:https://business.grimesiowa.com/events/details/grimes-chamber-economic-development-ribbon-cutting-celebration-kennybrook-village-09-22-2016-21
END:VEVENT

END:VCALENDAR
