BEGIN:VCALENDAR
VERSION:2.0
PRODID:-//ChamberMaster//Event Calendar 2.0//EN
METHOD:PUBLISH
X-PUBLISHED-TTL:P3D
REFRESH-INTERVAL:P3D
CALSCALE:GREGORIAN
BEGIN:VEVENT
DTSTART:20171206T180000Z
DTEND:20171206T190000Z
X-MICROSOFT-CDO-ALLDAYEVENT:FALSE
SUMMARY:Grimes Chamber & Economic Development Ribbon Cutting Celebration (Kum & Go)
DESCRIPTION:Please join us as we celebrate the beautiful remodeling of Kum & Go with a Ribbon Cutting Ceremony.  We are excited that our Chamber member has the second largest Kum & Go Fresh Market in the metro.  Come and see what the buzz is all about and enjoy a slice of pizza while you are there.
X-ALT-DESC;FMTTYPE=text/html:Please join us as we celebrate the beautiful remodeling of&nbsp\;Kum &amp\; Go with a Ribbon Cutting Ceremony.&nbsp\; We are excited that our Chamber member has the second largest Kum&nbsp\;&amp\; Go Fresh Market in the metro.&nbsp\; Come and see what the buzz is all about and enjoy a slice of pizza&nbsp\;while you are there.
LOCATION:Kum & Go 801 E 1st Street Grimes\, IA 50111
UID:e.2636.263
SEQUENCE:3
DTSTAMP:20260424T232639Z
URL:https://business.grimesiowa.com/events/details/grimes-chamber-economic-development-ribbon-cutting-celebration-kum-go-263
END:VEVENT

END:VCALENDAR
