BEGIN:VCALENDAR
VERSION:2.0
PRODID:-//ChamberMaster//Event Calendar 2.0//EN
METHOD:PUBLISH
X-PUBLISHED-TTL:P3D
REFRESH-INTERVAL:P3D
CALSCALE:GREGORIAN
BEGIN:VEVENT
DTSTART:20170803T200000Z
DTEND:20170803T203000Z
X-MICROSOFT-CDO-ALLDAYEVENT:FALSE
SUMMARY:Grimes Chamber & Economic Development Ribbon Cutting Celebration (Lock Box Storage Units)
DESCRIPTION:Please join us as we welcome Lock Box Storage Units to Grimes with a Ribbon Cutting Ceremony. This new business will be open and ready assist Grimes residents with storage needs.
X-ALT-DESC;FMTTYPE=text/html:Please join us as we welcome Lock Box Storage Units to Grimes with a Ribbon Cutting Ceremony. This new business will be open and ready assist Grimes residents with storage needs.
LOCATION:Lock Box Storage Units 3600 SE Gateway Dr Grimes\, IA 50111
UID:e.2636.226
SEQUENCE:3
DTSTAMP:20260425T033012Z
URL:https://business.grimesiowa.com/events/details/grimes-chamber-economic-development-ribbon-cutting-celebration-lock-box-storage-units-226
END:VEVENT

END:VCALENDAR
