BEGIN:VCALENDAR
VERSION:2.0
PRODID:-//ChamberMaster//Event Calendar 2.0//EN
METHOD:PUBLISH
X-PUBLISHED-TTL:P3D
REFRESH-INTERVAL:P3D
CALSCALE:GREGORIAN
BEGIN:VEVENT
DTSTART:20160826T180000Z
DTEND:20160826T190000Z
X-MICROSOFT-CDO-ALLDAYEVENT:FALSE
SUMMARY:Grimes Chamber & Economic Development Ribbon Cutting Celebration (Many Hands for Haiti Thrift Store)
DESCRIPTION:Please join us as we welcome Many Hands for Haiti Thrift Store to Grimes with a Ribbon Cutting Ceremony. Frozen yogurt will be available as your afternoon snack following the Ribbon Cutting.
X-ALT-DESC;FMTTYPE=text/html:Please join us as we welcome Many Hands for Haiti Thrift Store to Grimes with a Ribbon Cutting Ceremony. Frozen yogurt will be available as your afternoon snack following the Ribbon Cutting. &nbsp\;
LOCATION:Many Hands for Haiti Thrift Store 2900 SE Grimes Blvd Grimes\, IA 50111
UID:e.2636.28
SEQUENCE:3
DTSTAMP:20260425T203220Z
URL:https://business.grimesiowa.com/events/details/grimes-chamber-economic-development-ribbon-cutting-celebration-many-hands-for-haiti-thrift-store-08-26-2016-28
END:VEVENT

END:VCALENDAR
