BEGIN:VCALENDAR
VERSION:2.0
PRODID:-//ChamberMaster//Event Calendar 2.0//EN
METHOD:PUBLISH
X-PUBLISHED-TTL:P3D
REFRESH-INTERVAL:P3D
CALSCALE:GREGORIAN
BEGIN:VEVENT
DTSTART:20170825T210000Z
DTEND:20170825T213000Z
X-MICROSOFT-CDO-ALLDAYEVENT:FALSE
SUMMARY:Grimes Chamber & Economic Development Ribbon Cutting Celebration (Mathnasium)
DESCRIPTION:Please join us as we welcome Mathnasium to Grimes with a Ribbon Cutting Ceremony.This new business recently opened their doors and is looking forward to being an active member of the community
X-ALT-DESC;FMTTYPE=text/html:Please join us as we welcome Mathnasium to Grimes with a Ribbon Cutting Ceremony.This new business recently opened their doors and is looking forward to being an active member of the community &nbsp\;
LOCATION:Mathnasium 2810 SE Grimes Blvd Grimes\, IA 50111
UID:e.2636.229
SEQUENCE:3
DTSTAMP:20260425T032920Z
URL:https://business.grimesiowa.com/events/details/grimes-chamber-economic-development-ribbon-cutting-celebration-mathnasium-229
END:VEVENT

END:VCALENDAR
