BEGIN:VCALENDAR
VERSION:2.0
PRODID:-//ChamberMaster//Event Calendar 2.0//EN
METHOD:PUBLISH
X-PUBLISHED-TTL:P3D
REFRESH-INTERVAL:P3D
CALSCALE:GREGORIAN
BEGIN:VEVENT
DTSTART:20160721T213000Z
DTEND:20160721T223000Z
X-MICROSOFT-CDO-ALLDAYEVENT:FALSE
SUMMARY:Grimes Chamber & Economic Development Ribbon Cutting Celebration (New Bomgaars Store)
DESCRIPTION:Please join us as we welcome Bomgaars Supply\, Inc to the community of Grimes with a Ribbon Cutting Celebration.  You will have an opportunity to check out the new retail store and have some refreshments following the ceremony. We are excited to welcome this new GCED member to our city.
X-ALT-DESC;FMTTYPE=text/html:Please join us as we welcome Bomgaars Supply\, Inc to the community&nbsp\;of Grimes with a Ribbon Cutting Celebration. &nbsp\;You will have an opportunity to check out the new retail store and have some refreshments following the ceremony. We are excited to welcome this new GCED&nbsp\;member to our city.&nbsp\;&nbsp\;
LOCATION:Bomgaars Supply\, Inc 2151 SE 11th St Grimes\, IA 50111
UID:e.2636.24
SEQUENCE:3
DTSTAMP:20260425T220716Z
URL:https://business.grimesiowa.com/events/details/grimes-chamber-economic-development-ribbon-cutting-celebration-new-bomgaars-store-24
END:VEVENT

END:VCALENDAR
