BEGIN:VCALENDAR
VERSION:2.0
PRODID:-//ChamberMaster//Event Calendar 2.0//EN
METHOD:PUBLISH
X-PUBLISHED-TTL:P3D
REFRESH-INTERVAL:P3D
CALSCALE:GREGORIAN
BEGIN:VEVENT
DTSTART:20161020T213000Z
DTEND:20161020T223000Z
X-MICROSOFT-CDO-ALLDAYEVENT:FALSE
SUMMARY:Grimes Chamber & Economic Development Ribbon Cutting Celebration (RE/MAX Real Estate Concepts-Team Roberts)
DESCRIPTION:Please join us as we welcome RE/MAX Real Estate Concepts\, Team Roberts\, (dynamic father and son team) to Grimes with a Ribbon Cutting Ceremony.This new business has recently opened their doors and is looking forward to serving the community.
X-ALT-DESC;FMTTYPE=text/html:Please join us as we welcome RE/MAX Real Estate Concepts\, Team Roberts\, (dynamic father and son team) to Grimes with a Ribbon Cutting Ceremony.This new business has recently opened their doors and is looking forward to serving the community. &nbsp\;
LOCATION:RE/MAX Real Estate Concepts 309 SE Main St Grimes\, IA 50111
UID:e.2636.35
SEQUENCE:3
DTSTAMP:20260425T175822Z
URL:https://business.grimesiowa.com/events/details/grimes-chamber-economic-development-ribbon-cutting-celebration-re-max-real-estate-concepts-team-roberts-35
END:VEVENT

END:VCALENDAR
