BEGIN:VCALENDAR
VERSION:2.0
PRODID:-//ChamberMaster//Event Calendar 2.0//EN
METHOD:PUBLISH
X-PUBLISHED-TTL:P3D
REFRESH-INTERVAL:P3D
CALSCALE:GREGORIAN
BEGIN:VEVENT
DTSTART:20170110T170000Z
DTEND:20170110T173000Z
X-MICROSOFT-CDO-ALLDAYEVENT:FALSE
SUMMARY:Grimes Chamber & Economic Development Ribbon Cutting Celebration (Scooter's Coffeehouse)
DESCRIPTION:Please join us as we welcome Scooter's Coffeehouse to Grimes with a Ribbon Cutting Ceremony. We are excited to celebrate the Grand Opening with this new member of Grimes Chamber & Economic Development.
X-ALT-DESC;FMTTYPE=text/html:Please join us as we welcome Scooter&#39\;s Coffeehouse to Grimes with a Ribbon Cutting Ceremony. We are excited to celebrate the Grand Opening with this new member of&nbsp\;Grimes Chamber &amp\; Economic Development.
LOCATION:Scooter's Coffeehouse 2810 SE Grimes Blvd Grimes\, IA 50111
UID:e.2636.51
SEQUENCE:3
DTSTAMP:20260425T131326Z
URL:https://business.grimesiowa.com/events/details/grimes-chamber-economic-development-ribbon-cutting-celebration-scooter-s-coffeehouse-51
END:VEVENT

END:VCALENDAR
