BEGIN:VCALENDAR
VERSION:2.0
PRODID:-//ChamberMaster//Event Calendar 2.0//EN
METHOD:PUBLISH
X-PUBLISHED-TTL:P3D
REFRESH-INTERVAL:P3D
CALSCALE:GREGORIAN
BEGIN:VEVENT
DTSTART:20170330T213000Z
DTEND:20170330T233000Z
X-MICROSOFT-CDO-ALLDAYEVENT:FALSE
SUMMARY:Grimes Chamber & Economic Development Ribbon Cutting Celebration (Shade Tree Auto)
DESCRIPTION:Please join us as we celebrate the Grand Opening of Shade Tree Auto's new location. This event starts with a business after hours\, that we call B.I.G. (Business In Grimes)\, at 4:30 PM and the Ribbon Cutting Ceremony at 6:00 PM. This will be a great time of networking\, visiting with fellow member business and the opportunity to congratulate Clint Dudley and the gang at Shade Tree auto on their new facility and their contributions to the community.Don't forget to bring your business cards and enjoy this evening.
X-ALT-DESC;FMTTYPE=text/html:Please join us as we celebrate the Grand Opening of Shade Tree Auto&#39\;s new location. This event starts with a business after hours\, that we call <strong>B.I.G.</strong> (Business In Grimes)\, at 4:30 PM and the Ribbon Cutting Ceremony at 6:00 PM. This will be a great time of networking\, visiting with fellow member business and the opportunity to congratulate Clint Dudley and the gang at Shade Tree auto on their new facility and their contributions to the community.Don&#39\;t forget to bring&nbsp\;your business cards and enjoy this evening.
LOCATION:Shade Tree Auto 1750 SE 11th St Grimes\, IA 50111
UID:e.2636.63
SEQUENCE:3
DTSTAMP:20260425T102005Z
URL:https://business.grimesiowa.com/events/details/grimes-chamber-economic-development-ribbon-cutting-celebration-shade-tree-auto-63
END:VEVENT

END:VCALENDAR
