BEGIN:VCALENDAR
VERSION:2.0
PRODID:-//ChamberMaster//Event Calendar 2.0//EN
METHOD:PUBLISH
X-PUBLISHED-TTL:P3D
REFRESH-INTERVAL:P3D
CALSCALE:GREGORIAN
BEGIN:VEVENT
DTSTART:20180109T180000Z
DTEND:20180109T190000Z
X-MICROSOFT-CDO-ALLDAYEVENT:FALSE
SUMMARY:Grimes Chamber & Economic Development Ribbon Cutting Celebration (Sherwin Willliams)
DESCRIPTION:Please join us as we welcome Sherwin Williams to Grimes with a Ribbon Cutting Ceremony.This new business just opened their doors and is looking forward to serving the community.  Lunch will be served to those that attend.
X-ALT-DESC;FMTTYPE=text/html:Please join us as we welcome Sherwin Williams to Grimes with a Ribbon Cutting Ceremony.This new business just opened their doors and is looking forward to serving the community.&nbsp\; Lunch will be served to those that attend.
LOCATION:Sherwin Williams 2570 E 1st St Grimes\, IA 50111
UID:e.2636.34
SEQUENCE:3
DTSTAMP:20260424T203956Z
URL:https://business.grimesiowa.com/events/details/grimes-chamber-economic-development-ribbon-cutting-celebration-sherwin-willliams-34
END:VEVENT

END:VCALENDAR
