BEGIN:VCALENDAR
VERSION:2.0
PRODID:-//ChamberMaster//Event Calendar 2.0//EN
METHOD:PUBLISH
X-PUBLISHED-TTL:P3D
REFRESH-INTERVAL:P3D
CALSCALE:GREGORIAN
BEGIN:VEVENT
DTSTART:20161018T213000Z
DTEND:20161018T223000Z
X-MICROSOFT-CDO-ALLDAYEVENT:FALSE
SUMMARY:Grimes Chamber & Economic Development Ribbon Cutting Celebration (Tee's Custom Aparel & Printing)
DESCRIPTION:Join us a we celebrate the Grand Opening of Tee's Custom Apparel & Printing with a  Ribbon Cutting Ceremony.  Tauscha Shiffer is excited to welcome everyone to her new business.  Light refreshments will be served.
X-ALT-DESC;FMTTYPE=text/html:Join us a we celebrate the Grand Opening of Tee&#39\;s Custom Apparel &amp\; Printing with a&nbsp\;&nbsp\;Ribbon Cutting Ceremony. &nbsp\;Tauscha Shiffer&nbsp\;is excited to welcome everyone to her new business. &nbsp\;Light refreshments will be served.
LOCATION:310 E 1st St Grimes\, IA 50111
UID:e.2636.37
SEQUENCE:3
DTSTAMP:20260425T175644Z
URL:https://business.grimesiowa.com/events/details/grimes-chamber-economic-development-ribbon-cutting-celebration-tee-s-custom-aparel-printing-37
END:VEVENT

END:VCALENDAR
