BEGIN:VCALENDAR
VERSION:2.0
PRODID:-//ChamberMaster//Event Calendar 2.0//EN
METHOD:PUBLISH
X-PUBLISHED-TTL:P3D
REFRESH-INTERVAL:P3D
CALSCALE:GREGORIAN
BEGIN:VEVENT
DTSTART:20160908T213000Z
DTEND:20160908T223000Z
X-MICROSOFT-CDO-ALLDAYEVENT:FALSE
SUMMARY:Grimes Chamber & Economic Development Ribbon Cutting Celebration (Total Family Eye Care)
DESCRIPTION:Please join us as we help Total Family Eye Care celebrate their new building and location in Grimes.
X-ALT-DESC;FMTTYPE=text/html:Please join us as we help Total Family Eye Care&nbsp\;celebrate their new building and location in Grimes.
LOCATION:Total Family Eye Care 241 SE Destination Dr\; Suite 100 Grimes\, IA 50111
UID:e.2636.27
SEQUENCE:3
DTSTAMP:20260425T190835Z
URL:https://business.grimesiowa.com/events/details/grimes-chamber-economic-development-ribbon-cutting-celebration-total-family-eye-care-09-08-2016-27
END:VEVENT

END:VCALENDAR
