BEGIN:VCALENDAR
VERSION:2.0
PRODID:-//ChamberMaster//Event Calendar 2.0//EN
METHOD:PUBLISH
X-PUBLISHED-TTL:P3D
REFRESH-INTERVAL:P3D
CALSCALE:GREGORIAN
BEGIN:VEVENT
DTSTART:20161116T223000Z
DTEND:20161116T233000Z
X-MICROSOFT-CDO-ALLDAYEVENT:FALSE
SUMMARY:Grimes Chamber & Economic Development Ribbon Cutting Celebration (Walmart New Addition)
DESCRIPTION:Please join us as we cut the ribbon at WalMart's new addition. You will have an opportunity to check out this new area and have some refreshments following the ceremony. There will also be a time of recognition for our 1st Responders and our military. We are excited to see the growth of this member and the contributions they make to the community.
X-ALT-DESC;FMTTYPE=text/html:Please join us as we cut the ribbon at WalMart&#39\;s new addition. You will have an opportunity to check out this new area and have some refreshments following the ceremony. There will also be a time of recognition for our 1st Responders and our military. We are excited to see the growth of this member and the contributions they make to the community.
LOCATION:WalMart 2150 SE 1st ST Grimes\, IA 50111
UID:e.2636.40
SEQUENCE:3
DTSTAMP:20260425T162621Z
URL:https://business.grimesiowa.com/events/details/grimes-chamber-economic-development-ribbon-cutting-celebration-walmart-new-addition-40
END:VEVENT

END:VCALENDAR
