BEGIN:VCALENDAR
VERSION:2.0
PRODID:-//ChamberMaster//Event Calendar 2.0//EN
METHOD:PUBLISH
X-PUBLISHED-TTL:P3D
REFRESH-INTERVAL:P3D
CALSCALE:GREGORIAN
BEGIN:VEVENT
DTSTART:20180131T230000Z
DTEND:20180201T000000Z
X-MICROSOFT-CDO-ALLDAYEVENT:FALSE
SUMMARY:Grimes Chamber & Economic Development Ribbon Cutting Celebration (YESCO | Des Moines)
DESCRIPTION:Join us a we celebrate the addition of YESCO | Des Moines to Signarama-Ankeny.  This growing business is excited to share the services that they now have available for your business.  Refreshments will be served.
X-ALT-DESC;FMTTYPE=text/html:Join us a we celebrate the addition of YESCO&nbsp\;| Des Moines&nbsp\;to Signarama-Ankeny.&nbsp\; This growing business is excited to share the services that they now have available for your business.&nbsp\; Refreshments will be served.
LOCATION:1450 NE 69th Place\; Ste 55 Ankeny\, IA
UID:e.2636.4
SEQUENCE:3
DTSTAMP:20260424T204108Z
URL:https://business.grimesiowa.com/events/details/grimes-chamber-economic-development-ribbon-cutting-celebration-yesco-des-moines-4
END:VEVENT

END:VCALENDAR
