BEGIN:VCALENDAR
VERSION:2.0
PRODID:-//ChamberMaster//Event Calendar 2.0//EN
METHOD:PUBLISH
X-PUBLISHED-TTL:P3D
REFRESH-INTERVAL:P3D
CALSCALE:GREGORIAN
BEGIN:VEVENT
DTSTART:20171218T220000Z
DTEND:20171218T230000Z
X-MICROSOFT-CDO-ALLDAYEVENT:FALSE
SUMMARY:Grimes Chamber & Economic Development Ribbon Cutting Ceremony (Aluxa Homes of Des Moines)
DESCRIPTION:Join us a we celebrate the Grand Opening of Aluxa Homes of Des Moines new model home in Heritage of Grimes Development. The Ribbon Cutting Ceremony will take place at 4:00 PM followed by refreshments. Linger a bit after the Ribbon Cutting and tour the home while you network with fellow business professionals. This new home is located at 1905 NE Park Drive in Grimes
X-ALT-DESC;FMTTYPE=text/html:Join us a we celebrate the Grand Opening of Aluxa&nbsp\;Homes of Des Moines new model home in Heritage of Grimes Development. The Ribbon Cutting Ceremony will take place at 4:00 PM followed by&nbsp\;refreshments. Linger a bit after the Ribbon Cutting and tour the home while you network with fellow business professionals. This new home is located at 1905 NE Park Drive in Grimes
LOCATION:Aluxa Homes of Des Moines Model Home 1905 NE Park Dr Grimes\, IA 50111
UID:e.2636.267
SEQUENCE:3
DTSTAMP:20260424T221045Z
URL:https://business.grimesiowa.com/events/details/grimes-chamber-economic-development-ribbon-cutting-ceremony-aluxa-homes-of-des-moines-267
END:VEVENT

END:VCALENDAR
